BEGIN:VCALENDAR
VERSION:2.0
PRODID:-//McGill Pre-Dental Students&#039; Society - ECPv6.15.20//NONSGML v1.0//EN
CALSCALE:GREGORIAN
METHOD:PUBLISH
X-WR-CALNAME:McGill Pre-Dental Students&#039; Society
X-ORIGINAL-URL:https://mpdss.ssmu.ca
X-WR-CALDESC:Events for McGill Pre-Dental Students&#039; Society
REFRESH-INTERVAL;VALUE=DURATION:PT1H
X-Robots-Tag:noindex
X-PUBLISHED-TTL:PT1H
BEGIN:VTIMEZONE
TZID:UTC
BEGIN:STANDARD
TZOFFSETFROM:+0000
TZOFFSETTO:+0000
TZNAME:UTC
DTSTART:20190101T000000
END:STANDARD
END:VTIMEZONE
BEGIN:VEVENT
DTSTART;TZID=UTC:20200125T083000
DTEND;TZID=UTC:20200125T140000
DTSTAMP:20260422T095505
CREATED:20200121T071913Z
LAST-MODIFIED:20200121T232700Z
UID:611-1579941000-1579960800@mpdss.ssmu.ca
SUMMARY:MPDSS Mock DAT Exam
DESCRIPTION:The Mock DAT will take place on January 25th in room HSSL-M5-37A (McLennan Library)\, the break down of the day is as such:\n8:30 am-9:30 am: soap carving\n9:30 am-around  1 pm: written part\nFREE lunch and Q&A \nPlease sign-up here: https://forms.gle/JBKdWwx1gWX5tLq78 \nWe would like to thank McGill University Alumni for sponsoring us for this event.
URL:https://mpdss.ssmu.ca/wpevent/mpdss-mock-dat-exam/
LOCATION:HSSL-M5-37A (McLennan Library)
CATEGORIES:Winter Semester
ATTACH;FMTTYPE=image/jpeg:https://mpdss.ssmu.ca/wp-content/uploads/2020/01/IMG_2868.jpg
END:VEVENT
BEGIN:VEVENT
DTSTART;TZID=UTC:20200121T200000
DTEND;TZID=UTC:20200121T210000
DTSTAMP:20260422T095505
CREATED:20200121T071344Z
LAST-MODIFIED:20200121T232741Z
UID:608-1579636800-1579640400@mpdss.ssmu.ca
SUMMARY:Winter 2020 Shadowing Orientation
DESCRIPTION:Come to our mandatory shadowing orientation if you wish to participate in shadowing this semester!
URL:https://mpdss.ssmu.ca/wpevent/winter-shadowing-orientation/
LOCATION:HSSL-M5-37A (McLennan Library)
CATEGORIES:Winter Semester
ATTACH;FMTTYPE=image/jpeg:https://mpdss.ssmu.ca/wp-content/uploads/2020/01/59f118daedd45.image_.jpg
END:VEVENT
END:VCALENDAR